BEGIN:VCALENDAR
VERSION:2.0
PRODID:icalendar-ruby
CALSCALE:GREGORIAN
METHOD:PUBLISH
BEGIN:VEVENT
DTSTAMP:20260420T211401Z
UID:30-731995@cheneyag.org
DTSTART:20260520T010000Z
DTEND:20260520T020000Z
CLASS:PUBLIC
CREATED:20260420T122421
DESCRIPTION:Men's Bible Study
LAST-MODIFIED:20260420T122421
LOCATION:Amazing Grace Fellowship
SUMMARY:Men's Bible Study
URL;VALUE=URI:https://cheneyag.org/events/mens-bible-study--30/2026-05-19
ATTACH;FILENAME=Mens-Bible-Study-Rom-2026.png;FMTTYPE=image/png:https://dq5
 pwpg1q8ru0.cloudfront.net/2026/04/14/22/11/57/ab1d52fe-ef43-4bb8-b00c-3fbf
 9b9391e7/Mens-Bible-Study-Rom-2026.png
END:VEVENT
END:VCALENDAR
