BEGIN:VCALENDAR
VERSION:2.0
PRODID:icalendar-ruby
CALSCALE:GREGORIAN
METHOD:PUBLISH
BEGIN:VEVENT
DTSTAMP:20260425T005646Z
UID:26-740132@cheneyag.org
DTSTART:20261020T170000Z
DTEND:20261020T180000Z
CLASS:PUBLIC
CREATED:20260424T161022
DESCRIPTION:Tuesday Morning Ladies Bible Study
LAST-MODIFIED:20260424T161022
LOCATION:Amazing Grace Fellowship
SUMMARY:Ladies Morning Bible Study
URL;VALUE=URI:https://cheneyag.org/events/ladies-morning-bible-study/2026-1
 0-20
ATTACH;FILENAME=Tuesday-Womens-Bible-Study.png;FMTTYPE=image/png:https://dq
 5pwpg1q8ru0.cloudfront.net/2026/04/14/21/59/37/c85f0ecb-7e0a-4945-8074-384
 923b6a2d0/Tuesday-Womens-Bible-Study.png
END:VEVENT
END:VCALENDAR
