BEGIN:VCALENDAR
VERSION:2.0
PRODID:icalendar-ruby
CALSCALE:GREGORIAN
METHOD:PUBLISH
BEGIN:VEVENT
DTSTAMP:20260425T112433Z
UID:28-740486@cheneyag.org
DTSTART:20260826T010000Z
DTEND:20260826T023000Z
CLASS:PUBLIC
CREATED:20260424T185914
DESCRIPTION:
LAST-MODIFIED:20260424T185914
LOCATION:Amazing Grace Fellowship
SUMMARY:Ladies Evening Bible Study
URL;VALUE=URI:https://cheneyag.org/events/ladies-evening-bible-study/2026-0
 8-25
ATTACH;FILENAME=Evening-Womens-Bible-Study-Content.png;FMTTYPE=image/png:ht
 tps://dq5pwpg1q8ru0.cloudfront.net/2026/04/14/22/05/48/802b4bc8-d0e7-4ecb-
 97b1-760bc87a9aca/Evening-Womens-Bible-Study-Content.png
END:VEVENT
END:VCALENDAR
