BEGIN:VCALENDAR
VERSION:2.0
PRODID:icalendar-ruby
CALSCALE:GREGORIAN
METHOD:PUBLISH
BEGIN:VEVENT
DTSTAMP:20260425T002141Z
UID:28-740147@cheneyag.org
DTSTART:20260708T010000Z
DTEND:20260708T023000Z
CLASS:PUBLIC
CREATED:20260424T161022
DESCRIPTION:
LAST-MODIFIED:20260424T161022
LOCATION:Amazing Grace Fellowship
SUMMARY:Ladies Evening Bible Study
URL;VALUE=URI:https://cheneyag.org/events/ladies-evening-bible-study/2026-0
 7-07
ATTACH;FILENAME=Evening-Womens-Bible-Study-Content.png;FMTTYPE=image/png:ht
 tps://dq5pwpg1q8ru0.cloudfront.net/2026/04/14/22/05/48/802b4bc8-d0e7-4ecb-
 97b1-760bc87a9aca/Evening-Womens-Bible-Study-Content.png
END:VEVENT
END:VCALENDAR
