BEGIN:VCALENDAR
VERSION:2.0
PRODID:icalendar-ruby
CALSCALE:GREGORIAN
METHOD:PUBLISH
BEGIN:VEVENT
DTSTAMP:20260420T144531Z
UID:28-731344@cheneyag.org
DTSTART:20260429T010000Z
DTEND:20260429T023000Z
CLASS:PUBLIC
CREATED:20260420T071543
DESCRIPTION:
LAST-MODIFIED:20260420T071543
LOCATION:Amazing Grace Fellowship
SUMMARY:Ladies Evening Bible Study
URL;VALUE=URI:https://cheneyag.org/events/ladies-evening-bible-study/2026-0
 4-28
ATTACH;FILENAME=Evening-Womens-Bible-Study-Content.png;FMTTYPE=image/png:ht
 tps://dq5pwpg1q8ru0.cloudfront.net/2026/04/14/22/05/48/802b4bc8-d0e7-4ecb-
 97b1-760bc87a9aca/Evening-Womens-Bible-Study-Content.png
END:VEVENT
END:VCALENDAR
