BEGIN:VCALENDAR
VERSION:2.0
PRODID:icalendar-ruby
CALSCALE:GREGORIAN
METHOD:PUBLISH
BEGIN:VEVENT
DTSTAMP:20260421T100950Z
UID:31-720474@cheneyag.org
DTSTART;VALUE=DATE:20260425
DTEND;VALUE=DATE:20260425
CLASS:PUBLIC
CREATED:20260414T151651
DESCRIPTION:
LAST-MODIFIED:20260414T151651
LOCATION:Amazing Grace Fellowship
SUMMARY:Church Work Day
URL;VALUE=URI:https://cheneyag.org/events/church-work-day/2026-04-25
ATTACH;FILENAME=Work-Day-2026.png;FMTTYPE=image/png:https://dq5pwpg1q8ru0.c
 loudfront.net/2026/04/14/22/16/51/df54eeaf-99c1-48d9-bf79-d40ed4c2d68c/Wor
 k-Day-2026.png
END:VEVENT
END:VCALENDAR
